BEGIN:VCALENDAR
VERSION:2.0
PRODID:-//Plone.org//NONSGML plone.app.event//EN
X-WR-TIMEZONE:Europe/Rome
BEGIN:VEVENT
SUMMARY:CALL FOR PAPERS: 25th INTERNATIONAL CONFERENCE ON COMPUTATIONAL SC
 IENCE AND ITS APPLICATIONS (ICCSA 2025)
DTSTART;VALUE=DATE:20250630
DTEND;VALUE=DATE:20250704
DTSTAMP;VALUE=DATE-TIME:20260419T154016Z
UID:9ac05f03701745fab1b295b11daf15e4@da.unibo.it
CREATED;VALUE=DATE-TIME:20241118T092911Z
DESCRIPTION:Workshop “Building Multi-dimensional Models for Assessing Co
 mplex Environmental Systems – MES2025”\, International Conference ICCS
 A 2025
LAST-MODIFIED;VALUE=DATE-TIME:20241118T093124Z
URL:https://da.unibo.it/en/events/call-for-papers-25th-international-confe
 rence-on-computational-science-and-its-applications-iccsa-2025
END:VEVENT
END:VCALENDAR
