BEGIN:VCALENDAR
VERSION:2.0
PRODID:-//Plone.org//NONSGML plone.app.event//EN
X-WR-TIMEZONE:Europe/Rome
BEGIN:VEVENT
SUMMARY:LEARNING MORE FESTIVAL
DTSTART;VALUE=DATE:20241108
DTEND;VALUE=DATE:20241111
DTSTAMP;VALUE=DATE-TIME:20260421T235237Z
UID:f39080094cbd4f7da984c3af3454dd79@da.unibo.it
CREATED;VALUE=DATE-TIME:20241107T150235Z
DESCRIPTION:The only Festival in Italy that explores the frontiers of lear
 ning and new opportunities for enhancing human capital.
LAST-MODIFIED;VALUE=DATE-TIME:20241118T092704Z
URL:https://da.unibo.it/en/events/learning-more-festival
END:VEVENT
END:VCALENDAR
