BEGIN:VCALENDAR
VERSION:2.0
PRODID:-//Plone.org//NONSGML plone.app.event//EN
X-WR-TIMEZONE:Europe/Rome
BEGIN:VEVENT
SUMMARY:06* DESIGN TALK - SEMINARI DI DESIGN DELLA COMUNICAZIONE - CIANOTI
 PIA E GRAFICA EDITORIALE
DTSTART;TZID=Europe/Rome;VALUE=DATE-TIME:20251020T123000
DTEND;TZID=Europe/Rome;VALUE=DATE-TIME:20251020T150000
DTSTAMP;VALUE=DATE-TIME:20260421T071926Z
UID:e9a2f0222ae64750b4efabd013ae1575@da.unibo.it
CREATED;VALUE=DATE-TIME:20251017T090129Z
DESCRIPTION:Seminario
LAST-MODIFIED;VALUE=DATE-TIME:20251017T090218Z
URL:https://da.unibo.it/it/eventi/06-design-talk-seminari-di-design-della-
 comunicazione-cianotipia-e-grafica-editoriale
END:VEVENT
BEGIN:VTIMEZONE
TZID:Europe/Rome
X-LIC-LOCATION:Europe/Rome
BEGIN:DAYLIGHT
DTSTART;VALUE=DATE-TIME:20250330T030000
TZNAME:CEST
TZOFFSETFROM:+0100
TZOFFSETTO:+0200
END:DAYLIGHT
END:VTIMEZONE
END:VCALENDAR
