BEGIN:VCALENDAR
VERSION:2.0
PRODID:-//Plone.org//NONSGML plone.app.event//EN
X-WR-TIMEZONE:Europe/Rome
BEGIN:VEVENT
SUMMARY:DALLA DIGITALIZZAZIONE ALL’INTELLIGENZA ARTIFICIALE NUOVI MODELL
 I DI CONSERVAZIONE E CONOSCENZA
DTSTART;TZID=Europe/Rome;VALUE=DATE-TIME:20250514T180000
DTEND;TZID=Europe/Rome;VALUE=DATE-TIME:20250514T200000
DTSTAMP;VALUE=DATE-TIME:20260423T101853Z
UID:6caf101069154748be117e2414c88700@da.unibo.it
CREATED;VALUE=DATE-TIME:20250508T102107Z
DESCRIPTION:L’evento tratterà di come la digitalizzazione\, tecnologie 
 VR e l’IA stanno trasformando gli allestimenti museali e la conservazion
 e culturale\, attraverso gli interventi di esperti internazionali
LAST-MODIFIED;VALUE=DATE-TIME:20250508T103133Z
URL:https://da.unibo.it/it/eventi/alla-digitalizzazione-all-intelligenza-a
 rtificiale-nuovi-modelli-di-conservazione-e-conoscenza
END:VEVENT
BEGIN:VTIMEZONE
TZID:Europe/Rome
X-LIC-LOCATION:Europe/Rome
BEGIN:DAYLIGHT
DTSTART;VALUE=DATE-TIME:20250330T030000
TZNAME:CEST
TZOFFSETFROM:+0100
TZOFFSETTO:+0200
END:DAYLIGHT
END:VTIMEZONE
END:VCALENDAR
