BEGIN:VCALENDAR
VERSION:2.0
PRODID:-//Plone.org//NONSGML plone.app.event//EN
X-WR-TIMEZONE:Europe/Rome
BEGIN:VEVENT
SUMMARY:APPLICARE LE DESIGNOPS NELLE ORGANIZZAZIONI DESIGN ENABLED
DTSTART;TZID=Europe/Rome;VALUE=DATE-TIME:20250512T140000
DTEND;TZID=Europe/Rome;VALUE=DATE-TIME:20250512T180000
DTSTAMP;VALUE=DATE-TIME:20260423T083627Z
UID:29401ea7d1dd4692aed29c1c9131ae29@da.unibo.it
CREATED;VALUE=DATE-TIME:20250512T135500Z
DESCRIPTION:Il seminario si inserisce nel corso di Gestione del Progetto\,
  alla LM di Advanced Design e si propone di approfondire il tema del Desig
 nOps\, esplorando le strategie operative nel design
LAST-MODIFIED;VALUE=DATE-TIME:20250512T135605Z
URL:https://da.unibo.it/it/eventi/applicare-le-designops-nelle-organizzazi
 oni-design-enabled
END:VEVENT
BEGIN:VTIMEZONE
TZID:Europe/Rome
X-LIC-LOCATION:Europe/Rome
BEGIN:DAYLIGHT
DTSTART;VALUE=DATE-TIME:20250330T030000
TZNAME:CEST
TZOFFSETFROM:+0100
TZOFFSETTO:+0200
END:DAYLIGHT
END:VTIMEZONE
END:VCALENDAR
