BEGIN:VCALENDAR
VERSION:2.0
PRODID:-//Plone.org//NONSGML plone.app.event//EN
X-WR-TIMEZONE:Europe/Rome
BEGIN:VEVENT
SUMMARY:ARCHITECTURAL WORKSHOP ON DISSONANT HERITAGE
DTSTART;TZID=Europe/Rome;VALUE=DATE-TIME:20230131T230000
DTEND;TZID=Europe/Rome;VALUE=DATE-TIME:20230218T000000
DTSTAMP;VALUE=DATE-TIME:20260423T122635Z
UID:8615eb7bb3ac4e659e1988bb55622543@da.unibo.it
CREATED;VALUE=DATE-TIME:20230112T223025Z
DESCRIPTION:The Former Druso Barrack in Silandro (Bozen)
LAST-MODIFIED;VALUE=DATE-TIME:20230112T224438Z
URL:https://da.unibo.it/it/eventi/architectural-workshop-on-dissonant-heri
 tage
END:VEVENT
BEGIN:VTIMEZONE
TZID:Europe/Rome
X-LIC-LOCATION:Europe/Rome
BEGIN:STANDARD
DTSTART;VALUE=DATE-TIME:20221030T020000
TZNAME:CET
TZOFFSETFROM:+0200
TZOFFSETTO:+0100
END:STANDARD
END:VTIMEZONE
END:VCALENDAR
