BEGIN:VCALENDAR
VERSION:2.0
PRODID:-//Plone.org//NONSGML plone.app.event//EN
X-WR-TIMEZONE:Europe/Rome
BEGIN:VEVENT
SUMMARY:ARCHITETTURA E FOTOGRAFIA NELLE CAMPAGNE DELL'EMILIA-ROMAGNA
DTSTART;TZID=Europe/Rome;VALUE=DATE-TIME:20230928T170000
DTEND;TZID=Europe/Rome;VALUE=DATE-TIME:20240107T190000
DTSTAMP;VALUE=DATE-TIME:20260419T152550Z
UID:e4b3a9b02e9a49d58959839202c365ac@da.unibo.it
CREATED;VALUE=DATE-TIME:20230926T085308Z
DESCRIPTION:MAURA SAVINI\, rilievi e progetti. GUIDO GUIDI\, fotografie.
LAST-MODIFIED;VALUE=DATE-TIME:20230926T085447Z
URL:https://da.unibo.it/it/eventi/architettura-e-fotografia-nelle-campagne
 -dell-emilia-romagna
END:VEVENT
BEGIN:VTIMEZONE
TZID:Europe/Rome
X-LIC-LOCATION:Europe/Rome
BEGIN:DAYLIGHT
DTSTART;VALUE=DATE-TIME:20230326T030000
TZNAME:CEST
TZOFFSETFROM:+0100
TZOFFSETTO:+0200
END:DAYLIGHT
BEGIN:STANDARD
DTSTART;VALUE=DATE-TIME:20231029T020000
TZNAME:CET
TZOFFSETFROM:+0200
TZOFFSETTO:+0100
END:STANDARD
END:VTIMEZONE
END:VCALENDAR
