BEGIN:VCALENDAR
VERSION:2.0
PRODID:-//Plone.org//NONSGML plone.app.event//EN
X-WR-TIMEZONE:Europe/Rome
BEGIN:VEVENT
SUMMARY:BENEDICT VALIDATION WORKSHOP E3
DTSTART;TZID=Europe/Rome;VALUE=DATE-TIME:20230330T093000
DTEND;TZID=Europe/Rome;VALUE=DATE-TIME:20230330T163000
DTSTAMP;VALUE=DATE-TIME:20260421T172420Z
UID:34e55976a8c6419793a7e9f43d6fe631@da.unibo.it
CREATED;VALUE=DATE-TIME:20230327T162530Z
DESCRIPTION:The BENEDICT project deals with teaching at university level w
 ith Building Information Modelling BIM tools\, through the use of an IT pl
 atform
LAST-MODIFIED;VALUE=DATE-TIME:20230327T162919Z
URL:https://da.unibo.it/it/eventi/benedict-validation-workshop-e3
END:VEVENT
BEGIN:VTIMEZONE
TZID:Europe/Rome
X-LIC-LOCATION:Europe/Rome
BEGIN:DAYLIGHT
DTSTART;VALUE=DATE-TIME:20230326T030000
TZNAME:CEST
TZOFFSETFROM:+0100
TZOFFSETTO:+0200
END:DAYLIGHT
END:VTIMEZONE
END:VCALENDAR
