BEGIN:VCALENDAR
VERSION:2.0
PRODID:-//Plone.org//NONSGML plone.app.event//EN
X-WR-TIMEZONE:Europe/Rome
BEGIN:VEVENT
SUMMARY:COIMBRA GROUP THREE-MINUTE-THESIS COMPETITION
DTSTART;TZID=Europe/Rome;VALUE=DATE-TIME:20241218T235500
DTEND;TZID=Europe/Rome;VALUE=DATE-TIME:20241219T000000
DTSTAMP;VALUE=DATE-TIME:20260424T115533Z
UID:14f2dfd5b47343739d00bca569ea9769@da.unibo.it
CREATED;VALUE=DATE-TIME:20241120T085948Z
DESCRIPTION:Sono aperte le candidature ai dottorandi dell'ultimo anno per 
 presentare la loro ricerca in inglese. La scadenza per inviare le candidat
 ure è il 18 Dicembre
LAST-MODIFIED;VALUE=DATE-TIME:20241120T100801Z
URL:https://da.unibo.it/it/eventi/coimbra-group-three-minute-thesis-compet
 ition
END:VEVENT
BEGIN:VTIMEZONE
TZID:Europe/Rome
X-LIC-LOCATION:Europe/Rome
BEGIN:STANDARD
DTSTART;VALUE=DATE-TIME:20241027T020000
TZNAME:CET
TZOFFSETFROM:+0200
TZOFFSETTO:+0100
END:STANDARD
END:VTIMEZONE
END:VCALENDAR
