BEGIN:VCALENDAR
VERSION:2.0
PRODID:-//Plone.org//NONSGML plone.app.event//EN
X-WR-TIMEZONE:Europe/Rome
BEGIN:VEVENT
SUMMARY:DATA CHALLENGE\, YOUTH & CULTURE
DTSTART;TZID=Europe/Rome;VALUE=DATE-TIME:20230515T100000
DTEND;TZID=Europe/Rome;VALUE=DATE-TIME:20230515T160000
DTSTAMP;VALUE=DATE-TIME:20260420T100317Z
UID:ab2b8a0074ab4808871daca86346a575@da.unibo.it
CREATED;VALUE=DATE-TIME:20230510T202331Z
DESCRIPTION:Presentazione degli esiti del percorso di ricerca-azione durat
 o due anni\, nato dalla collaborazione tra l’Advanced Design Unit dell
 ’Università di Bologna e il Settore Biblioteche del Comune di Bologna
LAST-MODIFIED;VALUE=DATE-TIME:20230510T202739Z
URL:https://da.unibo.it/it/eventi/data-challenge-youth-culture
END:VEVENT
BEGIN:VTIMEZONE
TZID:Europe/Rome
X-LIC-LOCATION:Europe/Rome
BEGIN:DAYLIGHT
DTSTART;VALUE=DATE-TIME:20230326T030000
TZNAME:CEST
TZOFFSETFROM:+0100
TZOFFSETTO:+0200
END:DAYLIGHT
END:VTIMEZONE
END:VCALENDAR
