BEGIN:VCALENDAR
VERSION:2.0
PRODID:-//Plone.org//NONSGML plone.app.event//EN
X-WR-TIMEZONE:Europe/Rome
BEGIN:VEVENT
SUMMARY:DESIGN IN BRASIL: A BRIEF OVERVIEW
DTSTART;TZID=Europe/Rome;VALUE=DATE-TIME:20231120T143000
DTEND;TZID=Europe/Rome;VALUE=DATE-TIME:20231120T160000
DTSTAMP;VALUE=DATE-TIME:20260421T093713Z
UID:255c5614184e4efc851489918e4470c4@da.unibo.it
CREATED;VALUE=DATE-TIME:20231117T155859Z
DESCRIPTION:10 anni Design @Unibo
LAST-MODIFIED;VALUE=DATE-TIME:20231117T160036Z
URL:https://da.unibo.it/it/eventi/design-in-brasil-a-brief-overview
END:VEVENT
BEGIN:VTIMEZONE
TZID:Europe/Rome
X-LIC-LOCATION:Europe/Rome
BEGIN:STANDARD
DTSTART;VALUE=DATE-TIME:20231029T020000
TZNAME:CET
TZOFFSETFROM:+0200
TZOFFSETTO:+0100
END:STANDARD
END:VTIMEZONE
END:VCALENDAR
