BEGIN:VCALENDAR
VERSION:2.0
PRODID:-//Plone.org//NONSGML plone.app.event//EN
X-WR-TIMEZONE:Europe/Rome
BEGIN:VEVENT
SUMMARY:Design Talks
DTSTART;TZID=Europe/Rome;VALUE=DATE-TIME:20210526T171500
DTEND;TZID=Europe/Rome;VALUE=DATE-TIME:20210526T190000
DTSTAMP;VALUE=DATE-TIME:20260422T115005Z
UID:3b0eb085f2f7473a9356ed47144dffec@da.unibo.it
CREATED;VALUE=DATE-TIME:20210511T101829Z
DESCRIPTION:Design Emergency
LAST-MODIFIED;VALUE=DATE-TIME:20210511T102204Z
URL:https://da.unibo.it/it/eventi/design-talks
END:VEVENT
BEGIN:VTIMEZONE
TZID:Europe/Rome
X-LIC-LOCATION:Europe/Rome
BEGIN:DAYLIGHT
DTSTART;VALUE=DATE-TIME:20210328T030000
TZNAME:CEST
TZOFFSETFROM:+0100
TZOFFSETTO:+0200
END:DAYLIGHT
END:VTIMEZONE
END:VCALENDAR
