BEGIN:VCALENDAR
VERSION:2.0
PRODID:-//Plone.org//NONSGML plone.app.event//EN
X-WR-TIMEZONE:Europe/Rome
BEGIN:VEVENT
SUMMARY:DESIGNMIND | THIS LAND IS YOUR LAND
DTSTART;VALUE=DATE:20230702
DTEND;VALUE=DATE:20230724
DTSTAMP;VALUE=DATE-TIME:20260420T161531Z
UID:eff2099d442f4c3e84e53cdd7e33e339@da.unibo.it
CREATED;VALUE=DATE-TIME:20230608T085256Z
DESCRIPTION:Summer School - Luglio 2023 a Castellania Coppi (Alessandria)
LAST-MODIFIED;VALUE=DATE-TIME:20230608T085423Z
URL:https://da.unibo.it/it/eventi/designmind-this-land-is-your-land
END:VEVENT
END:VCALENDAR
