BEGIN:VCALENDAR
VERSION:2.0
PRODID:-//Plone.org//NONSGML plone.app.event//EN
X-WR-TIMEZONE:Europe/Rome
BEGIN:VEVENT
SUMMARY:E-TRAINING – SEMINARIO FORMATIVO SUL SISTEMA INTEGRATO E-SAFE PE
 R LA RIQUALIFICAZIONE ENERGETICA E SISMICA DEGLI EDIFICI
DTSTART;TZID=Europe/Rome;VALUE=DATE-TIME:20250210T140000
DTEND;TZID=Europe/Rome;VALUE=DATE-TIME:20250210T180000
DTSTAMP;VALUE=DATE-TIME:20260419T182546Z
UID:43efca805e6546f5b4be319309522def@da.unibo.it
CREATED;VALUE=DATE-TIME:20250120T142918Z
DESCRIPTION:Presentazione generale delle tecnologie\, degli scopi e degli 
 strumenti progettuali nell’ambito di e-SAFE
LAST-MODIFIED;VALUE=DATE-TIME:20250120T143447Z
URL:https://da.unibo.it/it/eventi/e-training-seminario-formativo-sul-siste
 ma-integrato-e-safe-per-la-riqualificazione-energetica-e-sismica-degli-edi
 fici
END:VEVENT
BEGIN:VTIMEZONE
TZID:Europe/Rome
X-LIC-LOCATION:Europe/Rome
BEGIN:STANDARD
DTSTART;VALUE=DATE-TIME:20241027T020000
TZNAME:CET
TZOFFSETFROM:+0200
TZOFFSETTO:+0100
END:STANDARD
END:VTIMEZONE
END:VCALENDAR
