BEGIN:VCALENDAR
VERSION:2.0
PRODID:-//Plone.org//NONSGML plone.app.event//EN
X-WR-TIMEZONE:Europe/Rome
BEGIN:VEVENT
SUMMARY:EN-ACTION LAB
DTSTART;VALUE=DATE:20230426
DTEND;VALUE=DATE:20230705
DTSTAMP;VALUE=DATE-TIME:20260423T105650Z
UID:f15e7fc41bf847a3adf7eaa556be2e73@da.unibo.it
CREATED;VALUE=DATE-TIME:20230407T160132Z
DESCRIPTION:La comunità universitaria diventa facilitatore della diffusio
 ne della conoscenza sui temi della transizione energetica\, della lotta al
  cambiamento climatico e dell’alfabetizzazione energetica.
LAST-MODIFIED;VALUE=DATE-TIME:20230426T083513Z
URL:https://da.unibo.it/it/eventi/en-action-lab-1
END:VEVENT
END:VCALENDAR
