BEGIN:VCALENDAR
VERSION:2.0
PRODID:-//Plone.org//NONSGML plone.app.event//EN
X-WR-TIMEZONE:Europe/Rome
BEGIN:VEVENT
SUMMARY:FROM NATURE TO NECESSITY: THE HISTORICAL OVERVIEW ON ECOLOGICAL DE
 SIGN
DTSTART;TZID=Europe/Rome;VALUE=DATE-TIME:20231121T110000
DTEND;TZID=Europe/Rome;VALUE=DATE-TIME:20231121T130000
DTSTAMP;VALUE=DATE-TIME:20260421T140837Z
UID:ea65018f92df437794b3bc84ca6c3bdd@da.unibo.it
CREATED;VALUE=DATE-TIME:20231117T152122Z
DESCRIPTION:10 anni di Design @Unibo
LAST-MODIFIED;VALUE=DATE-TIME:20231117T154955Z
URL:https://da.unibo.it/it/eventi/from-nature-to-necessity-the-historical-
 overview-on-ecological-design
END:VEVENT
BEGIN:VTIMEZONE
TZID:Europe/Rome
X-LIC-LOCATION:Europe/Rome
BEGIN:STANDARD
DTSTART;VALUE=DATE-TIME:20231029T020000
TZNAME:CET
TZOFFSETFROM:+0200
TZOFFSETTO:+0100
END:STANDARD
END:VTIMEZONE
END:VCALENDAR
