BEGIN:VCALENDAR
VERSION:2.0
PRODID:-//Plone.org//NONSGML plone.app.event//EN
X-WR-TIMEZONE:Europe/Rome
BEGIN:VEVENT
SUMMARY:GINO MALACARNE. ARCHITETTURE
DTSTART;TZID=Europe/Rome;VALUE=DATE-TIME:20250207T160000
DTEND;TZID=Europe/Rome;VALUE=DATE-TIME:20250322T183000
DTSTAMP;VALUE=DATE-TIME:20260424T033310Z
UID:b9b17264e89b4465ba06d8a3bf3d8ade@da.unibo.it
CREATED;VALUE=DATE-TIME:20250122T141502Z
DESCRIPTION:La mostra propone una selezione di progetti dell’architetto\
 , che si inserisce nel panorama architettonico contemporaneo attraverso le
  sue opere e la ricerca nelle forme
LAST-MODIFIED;VALUE=DATE-TIME:20250122T142340Z
URL:https://da.unibo.it/it/eventi/gino-malacarne-architetture-4
END:VEVENT
BEGIN:VTIMEZONE
TZID:Europe/Rome
X-LIC-LOCATION:Europe/Rome
BEGIN:STANDARD
DTSTART;VALUE=DATE-TIME:20241027T020000
TZNAME:CET
TZOFFSETFROM:+0200
TZOFFSETTO:+0100
END:STANDARD
END:VTIMEZONE
END:VCALENDAR
