BEGIN:VCALENDAR
VERSION:2.0
PRODID:-//Plone.org//NONSGML plone.app.event//EN
X-WR-TIMEZONE:Europe/Rome
BEGIN:VEVENT
SUMMARY:In con-tatto. Vivere l’arte e l’architettura attraverso le dit
 a!
DTSTART;TZID=Europe/Rome;VALUE=DATE-TIME:20220930T180000
DTEND;TZID=Europe/Rome;VALUE=DATE-TIME:20220930T235500
DTSTAMP;VALUE=DATE-TIME:20260422T012727Z
UID:f2dd6c6860554718bb0c813bc15005bc@da.unibo.it
CREATED;VALUE=DATE-TIME:20220920T133204Z
DESCRIPTION:Il progetto In-VisiBLe alla Notte Europea dei Ricercatori.
LAST-MODIFIED;VALUE=DATE-TIME:20220920T133712Z
URL:https://da.unibo.it/it/eventi/in-con-tatto-vivere-l-arte-e-l-architett
 ura-attraverso-le-dita
END:VEVENT
BEGIN:VTIMEZONE
TZID:Europe/Rome
X-LIC-LOCATION:Europe/Rome
BEGIN:DAYLIGHT
DTSTART;VALUE=DATE-TIME:20220327T030000
TZNAME:CEST
TZOFFSETFROM:+0100
TZOFFSETTO:+0200
END:DAYLIGHT
END:VTIMEZONE
END:VCALENDAR
