BEGIN:VCALENDAR
VERSION:2.0
PRODID:-//Plone.org//NONSGML plone.app.event//EN
X-WR-TIMEZONE:Europe/Rome
BEGIN:VEVENT
SUMMARY:[IN]TANGIBLE- CONFERENZA INTERNAZIONALE
DTSTART;TZID=Europe/Rome;VALUE=DATE-TIME:20250210T090000
DTEND;TZID=Europe/Rome;VALUE=DATE-TIME:20250210T180000
DTSTAMP;VALUE=DATE-TIME:20260424T005033Z
UID:032441e71492456e8ebdf72911578d82@da.unibo.it
CREATED;VALUE=DATE-TIME:20250205T144613Z
DESCRIPTION:Conferenza organizzata dai dottorandi del 38° ciclo in Archit
 ettura e Culture del Progetto
LAST-MODIFIED;VALUE=DATE-TIME:20250205T150128Z
URL:https://da.unibo.it/it/eventi/in-tangible-conferenza-internazionale
END:VEVENT
BEGIN:VTIMEZONE
TZID:Europe/Rome
X-LIC-LOCATION:Europe/Rome
BEGIN:STANDARD
DTSTART;VALUE=DATE-TIME:20241027T020000
TZNAME:CET
TZOFFSETFROM:+0200
TZOFFSETTO:+0100
END:STANDARD
END:VTIMEZONE
END:VCALENDAR
