BEGIN:VCALENDAR
VERSION:2.0
PRODID:-//Plone.org//NONSGML plone.app.event//EN
X-WR-TIMEZONE:Europe/Rome
BEGIN:VEVENT
SUMMARY:Inaugurazione del nuovo Campus Universitario di Cesena
DTSTART;VALUE=DATE:20181019
DTEND;VALUE=DATE:20181020
DTSTAMP;VALUE=DATE-TIME:20260423T050336Z
UID:18ff554dfa40414e8d8991c888b5dfe3@da.unibo.it
CREATED;VALUE=DATE-TIME:20180907T085529Z
DESCRIPTION:Seguiranno ulteriori dettagli circa l'organizzazione dell'even
 to.
LAST-MODIFIED;VALUE=DATE-TIME:20180907T095641Z
URL:https://da.unibo.it/it/eventi/inaugurazione-del-nuovo-campus-universit
 ario
END:VEVENT
END:VCALENDAR
