BEGIN:VCALENDAR
VERSION:2.0
PRODID:-//Plone.org//NONSGML plone.app.event//EN
X-WR-TIMEZONE:Europe/Rome
BEGIN:VEVENT
SUMMARY:LA CONSERVAZIONE PREVENTIVA E PROGRAMMATA: UNA STRATEGIA PER IL FU
 TURO
DTSTART;TZID=Europe/Rome;VALUE=DATE-TIME:20231115T163000
DTEND;TZID=Europe/Rome;VALUE=DATE-TIME:20231115T183000
DTSTAMP;VALUE=DATE-TIME:20260422T235803Z
UID:874fd16ce14a40d1af0f4148f22fd015@da.unibo.it
CREATED;VALUE=DATE-TIME:20231107T132806Z
DESCRIPTION:Presentazione del libro di Rossella Moioli sulle premesse\, es
 iti e prospettive degli interventi di Fondazione Cariplo sul territorio (N
 ardini Editore\, Firenze\, 2023)
LAST-MODIFIED;VALUE=DATE-TIME:20231107T134451Z
URL:https://da.unibo.it/it/eventi/la-conservazione-preventiva-e-programmat
 a-una-strategia-per-il-futuro
END:VEVENT
BEGIN:VTIMEZONE
TZID:Europe/Rome
X-LIC-LOCATION:Europe/Rome
BEGIN:STANDARD
DTSTART;VALUE=DATE-TIME:20231029T020000
TZNAME:CET
TZOFFSETFROM:+0200
TZOFFSETTO:+0100
END:STANDARD
END:VTIMEZONE
END:VCALENDAR
