BEGIN:VCALENDAR
VERSION:2.0
PRODID:-//Plone.org//NONSGML plone.app.event//EN
X-WR-TIMEZONE:Europe/Rome
BEGIN:VEVENT
SUMMARY:LA DIVISA DEL FUTURO. PRESENTAZIONE DEI PROTOTIPI DELLE NUOVE DIVI
 SE TRENITALIA TPER
DTSTART;TZID=Europe/Rome;VALUE=DATE-TIME:20250416T113000
DTEND;TZID=Europe/Rome;VALUE=DATE-TIME:20250416T130000
DTSTAMP;VALUE=DATE-TIME:20260423T084015Z
UID:7a5c744aa5894c288ec73be9a7823c24@da.unibo.it
CREATED;VALUE=DATE-TIME:20250416T082952Z
DESCRIPTION:"La Divisa del Futuro" è una conferenza pensata per celebrare
  la nuova divisa dei ferrovieri di Trenitalia Tper: un progetto che unisce
  identità\, innovazione e orgoglio professionale.
LAST-MODIFIED;VALUE=DATE-TIME:20250416T091418Z
URL:https://da.unibo.it/it/eventi/la-divisa-del-futuro-presentazione-dei-p
 rototipi-delle-nuove-divise-trenitalia-tper
END:VEVENT
BEGIN:VTIMEZONE
TZID:Europe/Rome
X-LIC-LOCATION:Europe/Rome
BEGIN:DAYLIGHT
DTSTART;VALUE=DATE-TIME:20250330T030000
TZNAME:CEST
TZOFFSETFROM:+0100
TZOFFSETTO:+0200
END:DAYLIGHT
END:VTIMEZONE
END:VCALENDAR
