BEGIN:VCALENDAR
VERSION:2.0
PRODID:-//Plone.org//NONSGML plone.app.event//EN
X-WR-TIMEZONE:Europe/Rome
BEGIN:VEVENT
SUMMARY:LE CITTA’ CHE CAMBIANO - CREATIVITÀ E INNOVAZIONE NELL’ECOSIS
 TEMA DELLA CITTÀ DIGITALE
DTSTART;TZID=Europe/Rome;VALUE=DATE-TIME:20250404T141500
DTEND;TZID=Europe/Rome;VALUE=DATE-TIME:20250404T183000
DTSTAMP;VALUE=DATE-TIME:20260423T123711Z
UID:4f1d8d8d233248f5a48d89ec01be37ad@da.unibo.it
CREATED;VALUE=DATE-TIME:20250324T094129Z
DESCRIPTION:La trasformazione digitale coadiuvata da creatività e innovaz
 ione\, favorisce l’affermarsi di fenomeni inediti e offre l’occasione 
 di catalizzare sulla città una società più inclusiva e sostenibile
LAST-MODIFIED;VALUE=DATE-TIME:20250324T094524Z
URL:https://da.unibo.it/it/eventi/le-citta-che-cambiano-creativita-e-innov
 azione-nell-ecosistema-della-citta-digitale
END:VEVENT
BEGIN:VTIMEZONE
TZID:Europe/Rome
X-LIC-LOCATION:Europe/Rome
BEGIN:DAYLIGHT
DTSTART;VALUE=DATE-TIME:20250330T030000
TZNAME:CEST
TZOFFSETFROM:+0100
TZOFFSETTO:+0200
END:DAYLIGHT
END:VTIMEZONE
END:VCALENDAR
