BEGIN:VCALENDAR
VERSION:2.0
PRODID:-//Plone.org//NONSGML plone.app.event//EN
X-WR-TIMEZONE:Europe/Rome
BEGIN:VEVENT
SUMMARY:MODERNITA'/CONFLITTO
DTSTART;TZID=Europe/Rome;VALUE=DATE-TIME:20250514T174500
DTEND;TZID=Europe/Rome;VALUE=DATE-TIME:20250514T200000
DTSTAMP;VALUE=DATE-TIME:20260425T141405Z
UID:304f76f88d3f40b5830016679bf998c3@da.unibo.it
CREATED;VALUE=DATE-TIME:20250509T103837Z
DESCRIPTION:Save the Date! 14 maggio ore 17.45 | Zabriskie Point. Introduc
 e il Prof. Andrea Luccaroni.
LAST-MODIFIED;VALUE=DATE-TIME:20250509T104113Z
URL:https://da.unibo.it/it/eventi/modernita-conflitto-1
END:VEVENT
BEGIN:VTIMEZONE
TZID:Europe/Rome
X-LIC-LOCATION:Europe/Rome
BEGIN:DAYLIGHT
DTSTART;VALUE=DATE-TIME:20250330T030000
TZNAME:CEST
TZOFFSETFROM:+0100
TZOFFSETTO:+0200
END:DAYLIGHT
END:VTIMEZONE
END:VCALENDAR
