BEGIN:VCALENDAR
VERSION:2.0
PRODID:-//Plone.org//NONSGML plone.app.event//EN
X-WR-TIMEZONE:Europe/Rome
BEGIN:VEVENT
SUMMARY:MODERNITÀ\\CONFLITTO
DTSTART;TZID=Europe/Rome;VALUE=DATE-TIME:20250507T173000
DTEND;TZID=Europe/Rome;VALUE=DATE-TIME:20250507T193000
DTSTAMP;VALUE=DATE-TIME:20260423T053514Z
UID:1b8967ec3cd44f9783a23fad55bd8eb2@da.unibo.it
CREATED;VALUE=DATE-TIME:20250429T140920Z
DESCRIPTION:SAVE THE DATE! 7 maggio ore 17:30 priezione del film MIO ZIO
LAST-MODIFIED;VALUE=DATE-TIME:20250429T142518Z
URL:https://da.unibo.it/it/eventi/modernita-conflitto
END:VEVENT
BEGIN:VTIMEZONE
TZID:Europe/Rome
X-LIC-LOCATION:Europe/Rome
BEGIN:DAYLIGHT
DTSTART;VALUE=DATE-TIME:20250330T030000
TZNAME:CEST
TZOFFSETFROM:+0100
TZOFFSETTO:+0200
END:DAYLIGHT
END:VTIMEZONE
END:VCALENDAR
