BEGIN:VCALENDAR
VERSION:2.0
PRODID:-//Plone.org//NONSGML plone.app.event//EN
X-WR-TIMEZONE:Europe/Rome
BEGIN:VEVENT
SUMMARY:Mostra “Architettura come modello” Spazio - Materia - Superfic
 ie nell'ambito della Festa dell'Architettura
DTSTART;TZID=Europe/Rome;VALUE=DATE-TIME:20160916T100000
DTEND;TZID=Europe/Rome;VALUE=DATE-TIME:20160918T220000
DTSTAMP;VALUE=DATE-TIME:20260419T152806Z
UID:2eeba62279c24f31999ea2a4689a1992@da.unibo.it
CREATED;VALUE=DATE-TIME:20160909T061845Z
DESCRIPTION:a cura di Francesco Gulinello\, Elena Mucelli
LAST-MODIFIED;VALUE=DATE-TIME:20160909T062036Z
URL:https://da.unibo.it/it/eventi/mostra-201carchitettura-come-modello201d
 -spazio-materia-superficie
END:VEVENT
BEGIN:VTIMEZONE
TZID:Europe/Rome
X-LIC-LOCATION:Europe/Rome
BEGIN:DAYLIGHT
DTSTART;VALUE=DATE-TIME:20160327T030000
TZNAME:CEST
TZOFFSETFROM:+0100
TZOFFSETTO:+0200
END:DAYLIGHT
END:VTIMEZONE
END:VCALENDAR
