BEGIN:VCALENDAR
VERSION:2.0
PRODID:-//Plone.org//NONSGML plone.app.event//EN
X-WR-TIMEZONE:Europe/Rome
BEGIN:VEVENT
SUMMARY:MULTIPLIER EVENT FINALE DEL PROGETTO ERASMUS+ "BUILD2050"
DTSTART;TZID=Europe/Rome;VALUE=DATE-TIME:20250121T103000
DTEND;TZID=Europe/Rome;VALUE=DATE-TIME:20250122T173000
DTSTAMP;VALUE=DATE-TIME:20260424T025130Z
UID:18eeac90a72a465eb32c21414b0b2d54@da.unibo.it
CREATED;VALUE=DATE-TIME:20250120T092148Z
DESCRIPTION:Disseminazione e comunicazione dei risultati finali del proget
 to
LAST-MODIFIED;VALUE=DATE-TIME:20250120T092908Z
URL:https://da.unibo.it/it/eventi/multiplier-event-finale-del-progetto-era
 smus-build2050
END:VEVENT
BEGIN:VTIMEZONE
TZID:Europe/Rome
X-LIC-LOCATION:Europe/Rome
BEGIN:STANDARD
DTSTART;VALUE=DATE-TIME:20241027T020000
TZNAME:CET
TZOFFSETFROM:+0200
TZOFFSETTO:+0100
END:STANDARD
END:VTIMEZONE
END:VCALENDAR
