BEGIN:VCALENDAR
VERSION:2.0
PRODID:-//Plone.org//NONSGML plone.app.event//EN
X-WR-TIMEZONE:Europe/Rome
BEGIN:VEVENT
SUMMARY:NEXTBUILT WORKSHOP CLIMATE NEUTRAL CITIES 2030
DTSTART;TZID=Europe/Rome;VALUE=DATE-TIME:20230510T090000
DTEND;TZID=Europe/Rome;VALUE=DATE-TIME:20230511T130000
DTSTAMP;VALUE=DATE-TIME:20260424T014814Z
UID:ca8eef88411d40d7a07e1ae3468b92c0@da.unibo.it
CREATED;VALUE=DATE-TIME:20230503T091017Z
DESCRIPTION:PLAY YOUR ACE CARD!
LAST-MODIFIED;VALUE=DATE-TIME:20230503T091406Z
URL:https://da.unibo.it/it/eventi/nextbuilt-workshop-climate-neutral-citie
 s-2030
END:VEVENT
BEGIN:VTIMEZONE
TZID:Europe/Rome
X-LIC-LOCATION:Europe/Rome
BEGIN:DAYLIGHT
DTSTART;VALUE=DATE-TIME:20230326T030000
TZNAME:CEST
TZOFFSETFROM:+0100
TZOFFSETTO:+0200
END:DAYLIGHT
END:VTIMEZONE
END:VCALENDAR
