BEGIN:VCALENDAR
VERSION:2.0
PRODID:-//Plone.org//NONSGML plone.app.event//EN
X-WR-TIMEZONE:Europe/Rome
BEGIN:VEVENT
SUMMARY:NOTRE-DAME DE PARIS Nuove conoscenze tra storia\, archeologia e re
 stauro
DTSTART;TZID=Europe/Rome;VALUE=DATE-TIME:20251031T093000
DTEND;TZID=Europe/Rome;VALUE=DATE-TIME:20251031T183000
DTSTAMP;VALUE=DATE-TIME:20260421T082833Z
UID:372dee41e83b438d8d960a0218e67439@da.unibo.it
CREATED;VALUE=DATE-TIME:20251002T142739Z
DESCRIPTION:Comunicazione degli esiti conoscitivi emersi dal cantiere scie
 ntifico che ha affiancato il restauro della cattedrale.
LAST-MODIFIED;VALUE=DATE-TIME:20251017T085136Z
URL:https://da.unibo.it/it/eventi/notre-dame-de-paris-nuove-conoscenze-tra
 -storia-archeologia-e-restauro
END:VEVENT
BEGIN:VTIMEZONE
TZID:Europe/Rome
X-LIC-LOCATION:Europe/Rome
BEGIN:STANDARD
DTSTART;VALUE=DATE-TIME:20251026T020000
TZNAME:CET
TZOFFSETFROM:+0200
TZOFFSETTO:+0100
END:STANDARD
END:VTIMEZONE
END:VCALENDAR
