BEGIN:VCALENDAR
VERSION:2.0
PRODID:-//Plone.org//NONSGML plone.app.event//EN
X-WR-TIMEZONE:Europe/Rome
BEGIN:VEVENT
SUMMARY:POLICY MAKING AND HOUSEKEEPING IN IRAN
DTSTART;TZID=Europe/Rome;VALUE=DATE-TIME:20231212T110000
DTEND;TZID=Europe/Rome;VALUE=DATE-TIME:20231212T130000
DTSTAMP;VALUE=DATE-TIME:20260421T093653Z
UID:18a1f31f4b73495ca5639444add26bbd@da.unibo.it
CREATED;VALUE=DATE-TIME:20231117T160718Z
DESCRIPTION:10 anni di Design @Unibo
LAST-MODIFIED;VALUE=DATE-TIME:20231117T160839Z
URL:https://da.unibo.it/it/eventi/policy-making-and-housekeeping-in-iran
END:VEVENT
BEGIN:VTIMEZONE
TZID:Europe/Rome
X-LIC-LOCATION:Europe/Rome
BEGIN:STANDARD
DTSTART;VALUE=DATE-TIME:20231029T020000
TZNAME:CET
TZOFFSETFROM:+0200
TZOFFSETTO:+0100
END:STANDARD
END:VTIMEZONE
END:VCALENDAR
