BEGIN:VCALENDAR
VERSION:2.0
PRODID:-//Plone.org//NONSGML plone.app.event//EN
X-WR-TIMEZONE:Europe/Rome
BEGIN:VEVENT
SUMMARY:PROGETTARE CON LA LUCE
DTSTART;TZID=Europe/Rome;VALUE=DATE-TIME:20250416T093000
DTEND;TZID=Europe/Rome;VALUE=DATE-TIME:20250416T180000
DTSTAMP;VALUE=DATE-TIME:20260423T035459Z
UID:a54332abe05f4860b80bf1528deb5353@da.unibo.it
CREATED;VALUE=DATE-TIME:20250416T072026Z
DESCRIPTION:Talks
LAST-MODIFIED;VALUE=DATE-TIME:20250416T072712Z
URL:https://da.unibo.it/it/eventi/progettare-con-la-luce
END:VEVENT
BEGIN:VTIMEZONE
TZID:Europe/Rome
X-LIC-LOCATION:Europe/Rome
BEGIN:DAYLIGHT
DTSTART;VALUE=DATE-TIME:20250330T030000
TZNAME:CEST
TZOFFSETFROM:+0100
TZOFFSETTO:+0200
END:DAYLIGHT
END:VTIMEZONE
END:VCALENDAR
