BEGIN:VCALENDAR
VERSION:2.0
PRODID:-//Plone.org//NONSGML plone.app.event//EN
X-WR-TIMEZONE:Europe/Rome
BEGIN:VEVENT
SUMMARY:PROGETTI PER L'AREA "EX GARAGE EUROPA" A MILANO MARITTIMA
DTSTART;TZID=Europe/Rome;VALUE=DATE-TIME:20251027T170000
DTEND;TZID=Europe/Rome;VALUE=DATE-TIME:20251027T190000
DTSTAMP;VALUE=DATE-TIME:20260422T024608Z
UID:e2c8bb2c4c67439c9bb2853871125b98@da.unibo.it
CREATED;VALUE=DATE-TIME:20251021T085807Z
DESCRIPTION:Esiti del workshop “Milano Marittima. Auditorium e spazi per
  la cultura”
LAST-MODIFIED;VALUE=DATE-TIME:20251021T090314Z
URL:https://da.unibo.it/it/eventi/progetti-per-l-area-ex-garage-europa-a-m
 ilano-marittima
END:VEVENT
BEGIN:VTIMEZONE
TZID:Europe/Rome
X-LIC-LOCATION:Europe/Rome
BEGIN:STANDARD
DTSTART;VALUE=DATE-TIME:20251026T020000
TZNAME:CET
TZOFFSETFROM:+0200
TZOFFSETTO:+0100
END:STANDARD
END:VTIMEZONE
END:VCALENDAR
