BEGIN:VCALENDAR
VERSION:2.0
PRODID:-//Plone.org//NONSGML plone.app.event//EN
X-WR-TIMEZONE:Europe/Rome
BEGIN:VEVENT
SUMMARY:REBUILD PROJECT
DTSTART;TZID=Europe/Rome;VALUE=DATE-TIME:20250411T090000
DTEND;TZID=Europe/Rome;VALUE=DATE-TIME:20250411T133000
DTSTAMP;VALUE=DATE-TIME:20260423T021903Z
UID:2ffe4fe40a5b421597a6106df96bb993@da.unibo.it
CREATED;VALUE=DATE-TIME:20250324T111901Z
DESCRIPTION:Virtual Study Visit
LAST-MODIFIED;VALUE=DATE-TIME:20250324T114652Z
URL:https://da.unibo.it/it/eventi/rebuild-project
END:VEVENT
BEGIN:VTIMEZONE
TZID:Europe/Rome
X-LIC-LOCATION:Europe/Rome
BEGIN:DAYLIGHT
DTSTART;VALUE=DATE-TIME:20250330T030000
TZNAME:CEST
TZOFFSETFROM:+0100
TZOFFSETTO:+0200
END:DAYLIGHT
END:VTIMEZONE
END:VCALENDAR
