BEGIN:VCALENDAR
VERSION:2.0
PRODID:-//Plone.org//NONSGML plone.app.event//EN
X-WR-TIMEZONE:Europe/Rome
BEGIN:VEVENT
SUMMARY:SMART TALKS
DTSTART;TZID=Europe/Rome;VALUE=DATE-TIME:20230228T110000
DTEND;TZID=Europe/Rome;VALUE=DATE-TIME:20230228T130000
DTSTAMP;VALUE=DATE-TIME:20260423T104942Z
UID:1e35946acbf54b92b6fd241e6706ec26@da.unibo.it
CREATED;VALUE=DATE-TIME:20230224T150404Z
DESCRIPTION:Strumenti di governance innovativa delle città verdi e neutra
 li. Cesena e Bologna. Ospiti: Marika Milani e Giovanni Fini.
LAST-MODIFIED;VALUE=DATE-TIME:20230224T155230Z
URL:https://da.unibo.it/it/eventi/smart-talks-4
END:VEVENT
BEGIN:VTIMEZONE
TZID:Europe/Rome
X-LIC-LOCATION:Europe/Rome
BEGIN:STANDARD
DTSTART;VALUE=DATE-TIME:20221030T020000
TZNAME:CET
TZOFFSETFROM:+0200
TZOFFSETTO:+0100
END:STANDARD
END:VTIMEZONE
END:VCALENDAR
