BEGIN:VCALENDAR
VERSION:2.0
PRODID:-//Plone.org//NONSGML plone.app.event//EN
X-WR-TIMEZONE:Europe/Rome
BEGIN:VEVENT
SUMMARY:SMART TALKS
DTSTART;TZID=Europe/Rome;VALUE=DATE-TIME:20230404T143000
DTEND;TZID=Europe/Rome;VALUE=DATE-TIME:20230404T153000
DTSTAMP;VALUE=DATE-TIME:20260419T155712Z
UID:e1a925066cdb46c6ae4da09e3ddd5b43@da.unibo.it
CREATED;VALUE=DATE-TIME:20230224T150918Z
DESCRIPTION:Smart city\, big data e control room: il progetto REPLICATE e 
  Snap4City. Ospite: Paolo Nesi.
LAST-MODIFIED;VALUE=DATE-TIME:20230224T155455Z
URL:https://da.unibo.it/it/eventi/smart-talks-6
END:VEVENT
BEGIN:VTIMEZONE
TZID:Europe/Rome
X-LIC-LOCATION:Europe/Rome
BEGIN:DAYLIGHT
DTSTART;VALUE=DATE-TIME:20230326T030000
TZNAME:CEST
TZOFFSETFROM:+0100
TZOFFSETTO:+0200
END:DAYLIGHT
END:VTIMEZONE
END:VCALENDAR
