BEGIN:VCALENDAR
VERSION:2.0
PRODID:-//Plone.org//NONSGML plone.app.event//EN
X-WR-TIMEZONE:Europe/Rome
BEGIN:VEVENT
SUMMARY:SMART TALKS: CITTÀ COLLABORATIVE E DIGITALI
DTSTART;TZID=Europe/Rome;VALUE=DATE-TIME:20250407T130000
DTEND;TZID=Europe/Rome;VALUE=DATE-TIME:20250407T143000
DTSTAMP;VALUE=DATE-TIME:20260423T114339Z
UID:6b6399d07aa74b6086a25cb1dba46c1d@da.unibo.it
CREATED;VALUE=DATE-TIME:20250222T130235Z
DESCRIPTION:Claudio Coletta ed Edoardo Colombani (Università di Bologna)
LAST-MODIFIED;VALUE=DATE-TIME:20250325T090754Z
URL:https://da.unibo.it/it/eventi/smart-talks-citta-collaborative-e-digita
 li
END:VEVENT
BEGIN:VTIMEZONE
TZID:Europe/Rome
X-LIC-LOCATION:Europe/Rome
BEGIN:DAYLIGHT
DTSTART;VALUE=DATE-TIME:20250330T030000
TZNAME:CEST
TZOFFSETFROM:+0100
TZOFFSETTO:+0200
END:DAYLIGHT
END:VTIMEZONE
END:VCALENDAR
