BEGIN:VCALENDAR
VERSION:2.0
PRODID:-//Plone.org//NONSGML plone.app.event//EN
X-WR-TIMEZONE:Europe/Rome
BEGIN:VEVENT
SUMMARY:SMART TALKS - Sfide\, sistemi e tecnologie per la città del futur
 o
DTSTART;TZID=Europe/Rome;VALUE=DATE-TIME:20231020T100000
DTEND;TZID=Europe/Rome;VALUE=DATE-TIME:20231020T113000
DTSTAMP;VALUE=DATE-TIME:20260421T094040Z
UID:5bd19df173684191bb728af28cf8cdd4@da.unibo.it
CREATED;VALUE=DATE-TIME:20230930T152959Z
DESCRIPTION:Domenico Schillaci (WEPUSH.ORG)\, Francesco Moledda ed Elisa P
 aluan (FONDAZIONE UNIPOLIS) presentano "MOB movimento in rivoluzione e MUV
  project"
LAST-MODIFIED;VALUE=DATE-TIME:20230930T153136Z
URL:https://da.unibo.it/it/eventi/smart-talks-sfide-sistemi-e-tecnologie-p
 er-la-citta-del-futuro-6
END:VEVENT
BEGIN:VTIMEZONE
TZID:Europe/Rome
X-LIC-LOCATION:Europe/Rome
BEGIN:DAYLIGHT
DTSTART;VALUE=DATE-TIME:20230326T030000
TZNAME:CEST
TZOFFSETFROM:+0100
TZOFFSETTO:+0200
END:DAYLIGHT
END:VTIMEZONE
END:VCALENDAR
