BEGIN:VCALENDAR
VERSION:2.0
PRODID:-//Plone.org//NONSGML plone.app.event//EN
X-WR-TIMEZONE:Europe/Rome
BEGIN:VEVENT
SUMMARY:SMART TALKS - SFIDE\, SISTEMI E TECNOLOGIE PER LA CITTÀ DEL FUTUR
 O
DTSTART;VALUE=DATE:20250225
DTEND;VALUE=DATE:20250408
DTSTAMP;VALUE=DATE-TIME:20260423T101853Z
UID:2b5f88fc6a47438d8ac45906b278a4c0@da.unibo.it
CREATED;VALUE=DATE-TIME:20250221T123838Z
DESCRIPTION:Edizione 2024-25 | parte 2 | Febbraio-Aprile 2025
LAST-MODIFIED;VALUE=DATE-TIME:20251121T103720Z
URL:https://da.unibo.it/it/eventi/smart-talks-sfide-sistemi-e-tecnologie-p
 er-la-citta-del-futuro-9
END:VEVENT
END:VCALENDAR
