BEGIN:VCALENDAR
VERSION:2.0
PRODID:-//Plone.org//NONSGML plone.app.event//EN
X-WR-TIMEZONE:Europe/Rome
BEGIN:VEVENT
SUMMARY:STRUCTURAL PROTECTION OF ARCHITECTURAL HERITAGE: TOWERS AND CAMPAN
 ILI
DTSTART;TZID=Europe/Rome;VALUE=DATE-TIME:20250506T143000
DTEND;TZID=Europe/Rome;VALUE=DATE-TIME:20250506T160000
DTSTAMP;VALUE=DATE-TIME:20260423T064646Z
UID:0903845053104fcfbbb88848a76f8a36@da.unibo.it
CREATED;VALUE=DATE-TIME:20250414T085836Z
DESCRIPTION:Relatore: Prof. Ing. Angelo di Tommaso\, Accademia delle Scien
 ze di Bologna
LAST-MODIFIED;VALUE=DATE-TIME:20250414T085923Z
URL:https://da.unibo.it/it/eventi/structural-protection-of-architectural-h
 eritage-towers-and-campanili
END:VEVENT
BEGIN:VTIMEZONE
TZID:Europe/Rome
X-LIC-LOCATION:Europe/Rome
BEGIN:DAYLIGHT
DTSTART;VALUE=DATE-TIME:20250330T030000
TZNAME:CEST
TZOFFSETFROM:+0100
TZOFFSETTO:+0200
END:DAYLIGHT
END:VTIMEZONE
END:VCALENDAR
