BEGIN:VCALENDAR
VERSION:2.0
PRODID:-//Plone.org//NONSGML plone.app.event//EN
X-WR-TIMEZONE:Europe/Rome
BEGIN:VEVENT
SUMMARY:THE POST-COLONIAL CITY
DTSTART;TZID=Europe/Rome;VALUE=DATE-TIME:20230418T100000
DTEND;TZID=Europe/Rome;VALUE=DATE-TIME:20230418T164500
DTSTAMP;VALUE=DATE-TIME:20260423T205033Z
UID:688937bd35fa4f1c83de3b6eb13a810a@da.unibo.it
CREATED;VALUE=DATE-TIME:20230412T163347Z
DESCRIPTION:Case Studies from the Indian Subcontinent and the Middle East
LAST-MODIFIED;VALUE=DATE-TIME:20230412T165233Z
URL:https://da.unibo.it/it/eventi/the-post-colonial-city
END:VEVENT
BEGIN:VTIMEZONE
TZID:Europe/Rome
X-LIC-LOCATION:Europe/Rome
BEGIN:DAYLIGHT
DTSTART;VALUE=DATE-TIME:20230326T030000
TZNAME:CEST
TZOFFSETFROM:+0100
TZOFFSETTO:+0200
END:DAYLIGHT
END:VTIMEZONE
END:VCALENDAR
