BEGIN:VCALENDAR
VERSION:2.0
PRODID:-//Plone.org//NONSGML plone.app.event//EN
X-WR-TIMEZONE:Europe/Rome
BEGIN:VEVENT
SUMMARY:WE SAY STOP. LA GRAFICA PER CONTRASTARE LA VIOLENZA CONTRO LE DONN
 E
DTSTART;TZID=Europe/Rome;VALUE=DATE-TIME:20231124T170000
DTEND;TZID=Europe/Rome;VALUE=DATE-TIME:20231124T183000
DTSTAMP;VALUE=DATE-TIME:20260421T094136Z
UID:dd8e5b41347f4bbdb3a9aa0be0b2b6d7@da.unibo.it
CREATED;VALUE=DATE-TIME:20231123T212034Z
DESCRIPTION:Seminario di riflessione sul contributo che l’università e 
 il design possono dare nel sostenere percorsi di conoscenza e sensibilizza
 zione sul fenomeno della violenza contro le donne
LAST-MODIFIED;VALUE=DATE-TIME:20231123T212200Z
URL:https://da.unibo.it/it/eventi/we-say-stop-la-grafica-per-contrastare-l
 a-violenza-contro-le-donne
END:VEVENT
BEGIN:VTIMEZONE
TZID:Europe/Rome
X-LIC-LOCATION:Europe/Rome
BEGIN:STANDARD
DTSTART;VALUE=DATE-TIME:20231029T020000
TZNAME:CET
TZOFFSETFROM:+0200
TZOFFSETTO:+0100
END:STANDARD
END:VTIMEZONE
END:VCALENDAR
